BEGIN:VCALENDAR
VERSION:2.0
PRODID:-//wp-events-plugin.com//7.2.3.1//EN
BEGIN:VEVENT
UID:5@rhoenbrick.com
DTSTART:20260606T100000Z
DTEND:20260607T190000Z
DTSTAMP:20260330T135653Z
URL:https://rhoenbrick.com/events/born2brick-ruesselsheim/
SUMMARY:Born2Brick Rüsselsheim
DESCRIPTION:Born2Brick’26 - das LEGO® Fan-Event im Theater Rüsselsheim\
 n\nDas Theater Rüsselsheim wird zur XXL-LEGO® Fläche: Auf rund 1.400 Qu
 adratmetern tauchst du ein in eine bunte\, kreative Steine-Welt – mit au
 ßergewöhnlichen Modellen\, gebaut von echten LEGO Fans\, mitten im beson
 deren Theater-Ambiente.\n\nIm Erdgeschoss kannst du stöbern\, jagen und e
 ntdecken: Händler haben neue und gebrauchte Sets\, Unikate\, jede Menge E
 inzelsteine und so manches gesuchte Teil am Start.\n\nIm großen Theaterfo
 yer im 1 und 2 Stock kannst Du die tollen LEGO Modelle bestaunen und mit d
 en Baumeistern ins Gespräch kommen.\n\nUnd in der großen Bauzone im zwei
 ten Stock heißt es: hinsetzen\, losbauen\, Kopf ausschalten. Kinder und E
 rwachsene setzen mit tausenden Steinen ihre eigenen Ideen um – von verr
 ückten Mini-Projekten bis zu großen Traumwelten.\n\nNeu dabei: die Build
  in the Dark Zone!\nBaue im Dunkeln nur mit Gefühl und Fantasie – eine 
 kurze\, spaßige Challenge für alle\, die etwas Besonderes ausprobieren w
 ollen.\n\nIn den Workshops triffst du erfahrene LEGO Baumeisterinnen und B
 aumeister\, bekommst Tricks aus erster Hand und neue Inspiration für dein
  nächstes Bauprojekt.\n\nFür die Pause zwischendurch ist auch gesorgt: D
 er Förderverein Theater Rüsselsheim serviert Kaffee und Kuchen\, und vor
  dem Theater warten Foodtrucks und ein Eiswagen auf dich.\n\nVeranstaltung
 sort: Theater Rüsselsheim\, Foyer\n\nVeranstaltungsdauer: Samstag von 10 
 bis 19 Uhr und Sonntag von 10 bis 17 Uhr\nLetzter Einlass 45 Minuten vor V
 eranstaltungsende!\n\nWir bitten jetzt schon um Verständnis\, dass aus fe
 uerschutzrechtlichen Gründen nur eine begrenzte Anzahl an Besuchern gleic
 hzeitig im Foyer sein dürfen\, was zu Wartezeiten vor dem Theater führen
  könnte.\n\nEintritt 7\,50 Euro | Kinder von 2 bis 12 Jahren 5 Euro\nEint
 ritt für Kinder nur in Begleitung eines Erziehungsberechtigten.\n\nMehr I
 nfos auf www.born2brick.de\n\nVeranstalter: Born2Brick e.V. in Kooperation
  mit dem Theater Rüsselsheim
CATEGORIES:Lego Ausstellung
LOCATION:Theater Rüsselsheim\, Am Treff 7\, Rüsselsheim am Main\, 65428\,
  Deutschland
X-APPLE-STRUCTURED-LOCATION;VALUE=URI;X-ADDRESS=Am Treff 7\, Rüsselsheim a
 m Main\, 65428\, Deutschland;X-APPLE-RADIUS=100;X-TITLE=Theater Rüsselshe
 im:geo:0,0
END:VEVENT
END:VCALENDAR