BEGIN:VCALENDAR
VERSION:2.0
PRODID:-//wp-events-plugin.com//7.2.3.1//EN
BEGIN:VEVENT
UID:2@rhoenbrick.com
DTSTART:20260912T100000Z
DTEND:20260913T180000Z
DTSTAMP:20260330T134453Z
URL:https://rhoenbrick.com/events/rhoenbrick-2026-2/
SUMMARY:Rhönbrick 2026
DESCRIPTION:Wir laden euch ein\, Teil unserer Klötzchenreise zu werden. Wi
 r die Mitglieder der RacoonBricKS e.V. - Ortsgruppe Rhön laden euch ein z
 ur LEGO® Fan-Ausstellung in der Rhönhalle Tann/Rhön.\n\nWir riefen in d
 ie Weiten des Klötzchenuniversums und sie kamen zu uns um Ihre Werke zu z
 eigen.\n\nVereinsmitglieder\, Freunde und Afols aus ganz Deutschland besuc
 hen die Rhönstadt und zeigen im Rahmen des Wirtefestes Tann ihre Bauwerke
  (MoC)\n\nhttps://rhoenbrick.com/rhoenbrick-26-in-tann/
CATEGORIES:Lego Ausstellung
LOCATION:Tann Rhönhalle\, Am Kalkofen \, Tann (Rhön)\, 36142\, Deutschlan
 d
X-APPLE-STRUCTURED-LOCATION;VALUE=URI;X-ADDRESS=Am Kalkofen \, Tann (Rhön)
 \, 36142\, Deutschland;X-APPLE-RADIUS=100;X-TITLE=Tann Rhönhalle:geo:0,0
END:VEVENT
END:VCALENDAR